BEGIN:VCALENDAR
VERSION:2.0
PRODID:-//Festival Inclusivo de Creatividad  DIVERSARIO - ECPv6.15.20//NONSGML v1.0//EN
CALSCALE:GREGORIAN
METHOD:PUBLISH
X-WR-CALNAME:Festival Inclusivo de Creatividad  DIVERSARIO
X-ORIGINAL-URL:https://diversario.org
X-WR-CALDESC:Eventos para Festival Inclusivo de Creatividad  DIVERSARIO
REFRESH-INTERVAL;VALUE=DURATION:PT1H
X-Robots-Tag:noindex
X-PUBLISHED-TTL:PT1H
BEGIN:VTIMEZONE
TZID:Europe/Madrid
BEGIN:DAYLIGHT
TZOFFSETFROM:+0100
TZOFFSETTO:+0200
TZNAME:CEST
DTSTART:20240331T010000
END:DAYLIGHT
BEGIN:STANDARD
TZOFFSETFROM:+0200
TZOFFSETTO:+0100
TZNAME:CET
DTSTART:20241027T010000
END:STANDARD
BEGIN:DAYLIGHT
TZOFFSETFROM:+0100
TZOFFSETTO:+0200
TZNAME:CEST
DTSTART:20250330T010000
END:DAYLIGHT
BEGIN:STANDARD
TZOFFSETFROM:+0200
TZOFFSETTO:+0100
TZNAME:CET
DTSTART:20251026T010000
END:STANDARD
BEGIN:DAYLIGHT
TZOFFSETFROM:+0100
TZOFFSETTO:+0200
TZNAME:CEST
DTSTART:20260329T010000
END:DAYLIGHT
BEGIN:STANDARD
TZOFFSETFROM:+0200
TZOFFSETTO:+0100
TZNAME:CET
DTSTART:20261025T010000
END:STANDARD
END:VTIMEZONE
BEGIN:VEVENT
DTSTART;TZID=Europe/Madrid:20251106T000000
DTEND;TZID=Europe/Madrid:20251219T235900
DTSTAMP:20260423T043837
CREATED:20251106T084039Z
LAST-MODIFIED:20251106T084100Z
UID:7493-1762387200-1766188740@diversario.org
SUMMARY:Abierta la Convocatoria de propuestas artísticas para el 7º Festival Inclusivo de Creatividad Diversario
DESCRIPTION:La inscripción de las propuestas artísticas se realiza a través de un formulario disponible en la web de Diversario. \nEl plazo de presentación finaliza el 19 de diciembre. \nMás información en https://diversario.org/2025/11/04/el-festival-diversario-abre-la-convocatoria-de-propuestas-artisticas-para-su-septima-edicion/ \nEnlace directo al formulario en www.diversario.org
URL:https://diversario.org/evento/abierta-la-convocatoria-de-propuestas-artisticas-para-el-7o-festival-inclusivo-de-creatividad-diversario/
ATTACH;FMTTYPE=image/jpeg:https://diversario.org/wp-content/uploads/2025/11/presentacion-convocatorias-1.jpg
END:VEVENT
END:VCALENDAR