BEGIN:VCALENDAR
VERSION:2.0
PRODID:-//Festival Inclusivo de Creatividad  DIVERSARIO - ECPv6.15.20//NONSGML v1.0//EN
CALSCALE:GREGORIAN
METHOD:PUBLISH
X-ORIGINAL-URL:https://diversario.org
X-WR-CALDESC:Eventos para Festival Inclusivo de Creatividad  DIVERSARIO
REFRESH-INTERVAL;VALUE=DURATION:PT1H
X-Robots-Tag:noindex
X-PUBLISHED-TTL:PT1H
BEGIN:VTIMEZONE
TZID:Europe/Madrid
BEGIN:DAYLIGHT
TZOFFSETFROM:+0100
TZOFFSETTO:+0200
TZNAME:CEST
DTSTART:20250330T010000
END:DAYLIGHT
BEGIN:STANDARD
TZOFFSETFROM:+0200
TZOFFSETTO:+0100
TZNAME:CET
DTSTART:20251026T010000
END:STANDARD
BEGIN:DAYLIGHT
TZOFFSETFROM:+0100
TZOFFSETTO:+0200
TZNAME:CEST
DTSTART:20260329T010000
END:DAYLIGHT
BEGIN:STANDARD
TZOFFSETFROM:+0200
TZOFFSETTO:+0100
TZNAME:CET
DTSTART:20261025T010000
END:STANDARD
BEGIN:DAYLIGHT
TZOFFSETFROM:+0100
TZOFFSETTO:+0200
TZNAME:CEST
DTSTART:20270328T010000
END:DAYLIGHT
BEGIN:STANDARD
TZOFFSETFROM:+0200
TZOFFSETTO:+0100
TZNAME:CET
DTSTART:20271031T010000
END:STANDARD
END:VTIMEZONE
BEGIN:VEVENT
DTSTART;VALUE=DATE:20260413
DTEND;VALUE=DATE:20260514
DTSTAMP:20260422T215549
CREATED:20260311T112011Z
LAST-MODIFIED:20260311T112011Z
UID:8732-1776038400-1778716799@diversario.org
SUMMARY:EXPOSICIÓN DE ARTES PLÁSTICAS "Con A de Antonio"
DESCRIPTION:13 de abril al 13 de mayo. \nDescripción: Muestra expositiva de las obras de Antonio Viñuales\, autor de la imagen que ilustra el cartel de Diversario 2026. \nInauguración: 13 abril a las 19:00 horas. Participan David Adiego diseñador gráfico y pintor\, y la artista Virginia González Unzué. \nColabora: Librería Anónima y Grupo Zhebra de Valentia \nLugar: Librería Anónima. Dirección: Calle Cabestany\, nº 19\, Huesca. \nEntrada libre
URL:https://diversario.org/evento/exposicion-de-artes-plasticas-con-a-de-antonio/
END:VEVENT
BEGIN:VEVENT
DTSTART;TZID=Europe/Madrid:20260516T190000
DTEND;TZID=Europe/Madrid:20260516T200000
DTSTAMP:20260422T215549
CREATED:20260422T102503Z
LAST-MODIFIED:20260422T102503Z
UID:9229-1778958000-1778961600@diversario.org
SUMMARY:TEATRO “INSTRUCCIONES PARA MONTAR UN CABARET”. Bolea (Huesca)
DESCRIPTION:Un espectáculo de CADIS Huesca dirigido por Kike Lera. \nSinopsis: Un grupo de actrices y actores noveles quedan en el escenario para ensayar su obra de teatro. Todo es nuevo para ellos. El director no ha llegado\, pero el público sí. ¡Sorpresa! ¿Quién les ha preparado esta encerrona? Tendrán que hacer algo\, lo que sea\, para entretener al público. Hay una pizca de nervios\, unos gramos de pánico\, una cucharadita de desconfianza\, cuarto y mitad de asombro y kilo y medio de respeto. Aunque no tengan a nadie que les de instrucciones\, tendrán que apañarse entre todos; saben que una vez que se abre el telón\, el show tiene que continuar. Ellos (el público) no saben lo que han venido a ver. Irán desgranando sus habilidades cómicas y teatrales en un loco cabaret\, esperando no defraudar al respetable. ¡Mucha mierda! \nHora: 19:00 horas \nLugar: Bolea (Huesca) \nEntrada libre hasta completar aforo
URL:https://diversario.org/evento/teatro-instrucciones-para-montar-un-cabaret-bolea-huesca/
ATTACH;FMTTYPE=image/jpeg:https://diversario.org/wp-content/uploads/2026/04/FINAL-OK-PNG-NO-TOCAR-212x300-1.jpg
END:VEVENT
BEGIN:VEVENT
DTSTART;VALUE=DATE:20260518
DTEND;VALUE=DATE:20260530
DTSTAMP:20260422T215549
CREATED:20260422T102348Z
LAST-MODIFIED:20260422T102348Z
UID:9226-1779062400-1780099199@diversario.org
SUMMARY:EXPOSICIÓN “Diseño activista por la paz” en IES Piramide (Huesca)
DESCRIPTION:Exposición del 18 al 29 de mayo. \nDescripción: La muestra explora el diseño como herramienta de expresión y reivindicación activista\, trabajando a través del collage. Está compuesta por veintiséis carteles fruto de un trabajo profundamente colaborativo entre alumnos y alumnas que cursan la asignatura Reproducción e impresión II del Grado en Diseño Gráfico en la Escuela de Diseño de Aragón y doce personas con discapacidad vinculadas a las asociaciones ASPACE Huesca\, Cruz Blanca Huesca\, Down Huesca y Valentia y dos profesionales de las entidades. \nLugar: IES Pirámide. Carretera Cuarte\, S/N\, Huesca. \nHorario: Lunes a Viernes. \nEntrada libre
URL:https://diversario.org/evento/exposicion-diseno-activista-por-la-paz-en-ies-piramide-huesca/
ATTACH;FMTTYPE=image/jpeg:https://diversario.org/wp-content/uploads/2026/04/carteles-ESDA-300x221-1.jpg
END:VEVENT
END:VCALENDAR